BEGIN:VCALENDAR
VERSION:2.0
PRODID:-//IACMI - ECPv6.15.20//NONSGML v1.0//EN
CALSCALE:GREGORIAN
METHOD:PUBLISH
X-WR-CALNAME:IACMI
X-ORIGINAL-URL:https://www.iacmi.org
X-WR-CALDESC:Events for IACMI
REFRESH-INTERVAL;VALUE=DURATION:PT1H
X-Robots-Tag:noindex
X-PUBLISHED-TTL:PT1H
BEGIN:VTIMEZONE
TZID:UTC
BEGIN:STANDARD
TZOFFSETFROM:+0000
TZOFFSETTO:+0000
TZNAME:UTC
DTSTART:20220101T000000
END:STANDARD
END:VTIMEZONE
BEGIN:VEVENT
DTSTART;TZID=UTC:20230620T080000
DTEND;TZID=UTC:20230623T170000
DTSTAMP:20260420T045155
CREATED:20230131T225820Z
LAST-MODIFIED:20260206T030842Z
UID:16537-1687248000-1687539600@www.iacmi.org
SUMMARY:Summer 2023 Members Meeting
DESCRIPTION:Another Successful IACMI Members Meeting! This time in Knoxville\nOn June 20-22\, 2023\, IACMI welcomed more than 300 industry leaders and technical experts from 36 states and 7 countries to Knoxville\, Tenn.\, for our annual members meeting. The three-day event brought some of the best minds and companies to Tennessee focused on composites and advanced materials to share success stories\, join research and development working groups\, attend presentations and network. \nWe were pleased to host leaders and representatives from the U.S. Departments of Energy and Defense and national leading experts in energy\, transportation\, infrastructure\, and workforce development. IACMI industry member companies teamed with our members from national laboratories\, universities\, and government agencies to emphasize the great things happening in the composites space and the possibilities in the years to come. \nA special thank you to our event sponsors\, American Chemistry Council Plastics Division\, Dassault Systèmes\, TPI Composites\, Composites One\, Berndorf Band Group\, and Magnum Venus Products. \nRead the full recap here. \nVISIT OUR FACEBOOK PAGE TO VIEW EVENT PHOTOS \n\nSummer 2023 Members Meeting Recap\nhttps://www.iacmi.org/wp-content/uploads/2023/01/iacmi_mm23_recap_v7-240p-1.mp4
URL:https://www.iacmi.org/event/summer-members-meeting-3/
CATEGORIES:Members Meetings
END:VEVENT
END:VCALENDAR